Workbook

Sheet Project (Detailed Version) 
A1: =B3&"Implementation Project Progress Tracking" -> Implementation Project Progress Tracking
A2: I. Project Basic Information
A3: Project Name | F3: Implementation Technology | J3: Client Representative (Party A) | N3: Sales Assistant | R3: Implementation Days | S3: 5 | U3: Project Start Date | V3: 46319 | W3: Reporting Date | X3: =TODAY() -> 46318 | Y3: End Progress | Z3: Project Schedule Timeline
A4: II. Project Breakdown & Schedule Plan | U4: Planned Implementation Time | V4: =V3 -> 46319 | W4: Planned End Time | X4: =V4+S3-1 -> 46323 | Z4: Day 1 | AA4: Day 2 | AB4: Day 3 | AC4: Day 4 | AD4: Day 5 | AE4: Day 6 | AF4: Day 7 | AG4: Day 8 | AH4: Day 9 | AI4: Day 10 | AJ4: Day 11 | AK4: Day 12
A5: No. | B5: Project Phase | C5: Task Name | F5: Subtask | I5: Estimated Workload | J5: Importance | K5: Materials Required | L5: Responsible (R) | M5: Approver (A) | N5: Collaborator (S) | O5: Support (C) | P5: Informed (I) | Q5: Key Milestone | T5: Completion Progress | U5: Risk Alert & Remarks | W5: Planned Start Date | X5: Planned End Date | Y5: Actual Completion Date | Z5: =V3 -> 46319 | AA5: =Z5+1 -> 46320 | AB5: =AA5+1 -> 46321 | AC5: =AB5+1 -> 46322 | AD5: =AC5+1 -> 46323 | AE5: =AD5+1 -> 46324 | AF5: =AE5+1 -> 46325 | AG5: =AF5+1 -> 46326 | AH5: =AG5+1 -> 46327 | ... AK5: =AJ5+1 -> 46330
A6: 1 | B6: Initiation | C6: Project Kickoff | J6: Normal | L6: 梁建宁 | P6: =IF($H$3=0,"Required",$H$3) -> Required | Q6: CRM basic info obtained; client contacted for general briefing | T6: Completed | W6: =V3-3 -> 46316 | X6: =V3-3 -> 46316 | Y6: =V3-3 -> 46316 | Z6: =IF(AND($Z$5>=W6,$Z$5<=X6),1,0) -> 0 | AA6: =IF(AND($AA$5>=W6,$AA$5<=X6),1,0) -> 0 | AB6: =IF(AND($AB$5>=W6,$AB$5<=X6),1,0) -> 0 | AC6: =IF(AND($AC$5>=W6,$AC$5<=X6),1,0) -> 0 | AD6: =IF(AND($AD$5>=W6,$AD$5<=X6),1,0) -> 0 | AE6: =IF(AND($AE$5>=W6,$AE$5<=X6),1,0) -> 0 | AF6: =IF(AND($AF$5>=W6,$AF$5<=X6),1,0) -> 0 | AG6: =IF(AND($AG$5>=W6,$AG$5<=X6),1,0) -> 0 | AH6: =IF(AND($AH$5>=W6,$AH$5<=X6),1,0) -> 0 | AI6: =IF(AND($AI$5>=W6,$AI$5<=X6),1,0) -> 0 | AJ6: =IF(AND($AJ$5>=W6,$AJ$5<=X6),1,0) -> 0 | AK6: =IF(AND($AK$5>=W6,$AK$5<=X6),1,0) -> 0
A7: 2.1 | C7: Preliminary Preparation (Site Survey) | F7: Requirements Research | I7: 30 min | J7: Important | L7: =IF($H$3=0,"Required",$H$3) -> Required | M7: =IF($L$3=0,"Required",$L$3) -> Required | O7: 杨杰文 | Q7: Confirm client requirements and finalize implementation plan | T7: =IF(AND(Y7<=$X$3,Y7>0),"Completed",IF(AND(W7<=$X$3,$X$3<=X7),"In Progress",IF(AND($X$3>X7,Y7=0),"Overdue","Not Started"))) -> Not Started | W7: =V4 -> 46319 | X7: =V4 -> 46319 | Z7: =IF(AND($Z$5>=W7,$Z$5<=X7),1,0) -> 1 | AA7: =IF(AND($AA$5>=W7,$AA$5<=X7),1,0) -> 0 | AB7: =IF(AND($AB$5>=W7,$AB$5<=X7),1,0) -> 0 | AC7: =IF(AND($AC$5>=W7,$AC$5<=X7),1,0) -> 0 | AD7: =IF(AND($AD$5>=W7,$AD$5<=X7),1,0) -> 0 | AE7: =IF(AND($AE$5>=W7,$AE$5<=X7),1,0) -> 0 | AF7: =IF(AND($AF$5>=W7,$AF$5<=X7),1,0) -> 0 | AG7: =IF(AND($AG$5>=W7,$AG$5<=X7),1,0) -> 0 | AH7: =IF(AND($AH$5>=W7,$AH$5<=X7),1,0) -> 0 | AI7: =IF(AND($AI$5>=W7,$AI$5<=X7),1,0) -> 0 | AJ7: =IF(AND($AJ$5>=W7,$AJ$5<=X7),1,0) -> 0 | AK7: =IF(AND($AK$5>=W7,$AK$5<=X7),1,0) -> 0
A8: 2.2 | F8: Site Entry Agreement Signing | I8: 30 min | J8: Important | K8: Site Entry Agreement | L8: =IF($H$3=0,"Required",$H$3) -> Required | M8: =IF($L$3=0,"Required",$L$3) -> Required | Q8: Sign site entry agreement | T8: =IF(AND(Y8<=$X$3,Y8>0),"Completed",IF(AND(W8<=$X$3,$X$3<=X8),"In Progress",IF(AND($X$3>X8,Y8=0),"Overdue","Not Started"))) -> Not Started | W8: =V4 -> 46319 | X8: =V4 -> 46319 | Z8: =IF(AND($Z$5>=W8,$Z$5<=X8),1,0) -> 1 | AA8: =IF(AND($AA$5>=W8,$AA$5<=X8),1,0) -> 0 | AB8: =IF(AND($AB$5>=W8,$AB$5<=X8),1,0) -> 0 | AC8: =IF(AND($AC$5>=W8,$AC$5<=X8),1,0) -> 0 | AD8: =IF(AND($AD$5>=W8,$AD$5<=X8),1,0) -> 0 | AE8: =IF(AND($AE$5>=W8,$AE$5<=X8),1,0) -> 0 | AF8: =IF(AND($AF$5>=W8,$AF$5<=X8),1,0) -> 0 | AG8: =IF(AND($AG$5>=W8,$AG$5<=X8),1,0) -> 0 | AH8: =IF(AND($AH$5>=W8,$AH$5<=X8),1,0) -> 0 | AI8: =IF(AND($AI$5>=W8,$AI$5<=X8),1,0) -> 0 | AJ8: =IF(AND($AJ$5>=W8,$AJ$5<=X8),1,0) -> 0 | AK8: =IF(AND($AK$5>=W8,$AK$5<=X8),1,0) -> 0
A9: 2.3 | F9: Goods Inventory Check | I9: 30 min | J9: Very Important | K9: Goods Receipt Note | L9: =IF($H$3=0,"Required",$H$3) -> Required | M9: =IF($L$3=0,"Required",$L$3) -> Required | O9: 王凌云 | Q9: Sign goods receipt note | T9: =IF(AND(Y9<=$X$3,Y9>0),"Completed",IF(AND(W9<=$X$3,$X$3<=X9),"In Progress",IF(AND($X$3>X9,Y9=0),"Overdue","Not Started"))) -> Not Started | W9: =V4 -> 46319 | X9: =V4 -> 46319 | Z9: =IF(AND($Z$5>=W9,$Z$5<=X9),1,0) -> 1 | AA9: =IF(AND($AA$5>=W9,$AA$5<=X9),1,0) -> 0 | AB9: =IF(AND($AB$5>=W9,$AB$5<=X9),1,0) -> 0 | AC9: =IF(AND($AC$5>=W9,$AC$5<=X9),1,0) -> 0 | AD9: =IF(AND($AD$5>=W9,$AD$5<=X9),1,0) -> 0 | AE9: =IF(AND($AE$5>=W9,$AE$5<=X9),1,0) -> 0 | AF9: =IF(AND($AF$5>=W9,$AF$5<=X9),1,0) -> 0 | AG9: =IF(AND($AG$5>=W9,$AG$5<=X9),1,0) -> 0 | AH9: =IF(AND($AH$5>=W9,$AH$5<=X9),1,0) -> 0 | AI9: =IF(AND($AI$5>=W9,$AI$5<=X9),1,0) -> 0 | AJ9: =IF(AND($AJ$5>=W9,$AJ$5<=X9),1,0) -> 0 | AK9: =IF(AND($AK$5>=W9,$AK$5<=X9),1,0) -> 0
A10: 3 | B10: Planning | C10: Implementation Plan Confirmation | F10: Develop and confirm work plan | I10: 30 min | J10: Important | L10: =IF($H$3=0,"Required",$H$3) -> Required | P10: =IF($P$3=0,"Required",$P$3) -> Required | T10: =IF(AND(Y10<=$X$3,Y10>0),"Completed",IF(AND(W10<=$X$3,$X$3<=X10),"In Progress",IF(AND($X$3>X10,Y10=0),"Overdue","Not Started"))) -> Not Started | W10: =V4 -> 46319 | X10: =V4 -> 46319 | Z10: =IF(AND($Z$5>=W10,$Z$5<=X10),1,0) -> 1 | AA10: =IF(AND($AA$5>=W10,$AA$5<=X10),1,0) -> 0 | AB10: =IF(AND($AB$5>=W10,$AB$5<=X10),1,0) -> 0 | AC10: =IF(AND($AC$5>=W10,$AC$5<=X10),1,0) -> 0 | AD10: =IF(AND($AD$5>=W10,$AD$5<=X10),1,0) -> 0 | AE10: =IF(AND($AE$5>=W10,$AE$5<=X10),1,0) -> 0 | AF10: =IF(AND($AF$5>=W10,$AF$5<=X10),1,0) -> 0 | AG10: =IF(AND($AG$5>=W10,$AG$5<=X10),1,0) -> 0 | AH10: =IF(AND($AH$5>=W10,$AH$5<=X10),1,0) -> 0 | AI10: =IF(AND($AI$5>=W10,$AI$5<=X10),1,0) -> 0 | AJ10: =IF(AND($AJ$5>=W10,$AJ$5<=X10),1,0) -> 0 | AK10: =IF(AND($AK$5>=W10,$AK$5<=X10),1,0) -> 0
A11: 4 | B11: Execution | C11: Network Debugging / Network Delivery | F11: LAN Debugging | I11: 1 hour | J11: Very Important | L11: =IF($H$3=0,"Required",$H$3) -> Required | N11: Required | O11: 梁建宁 | Q11: Network runs normally across the whole venue | T11: =IF(AND(Y11<=$X$3,Y11>0),"Completed",IF(AND(W11<=$X$3,$X$3<=X11),"In Progress",IF(AND($X$3>X11,Y11=0),"Overdue","Not Started"))) -> Not Started | W11: =V4 -> 46319 | X11: =V4 -> 46319 | Z11: =IF(AND($Z$5>=W11,$Z$5<=X11),1,0) -> 1 | AA11: =IF(AND($AA$5>=W11,$AA$5<=X11),1,0) -> 0 | AB11: =IF(AND($AB$5>=W11,$AB$5<=X11),1,0) -> 0 | AC11: =IF(AND($AC$5>=W11,$AC$5<=X11),1,0) -> 0 | AD11: =IF(AND($AD$5>=W11,$AD$5<=X11),1,0) -> 0 | AE11: =IF(AND($AE$5>=W11,$AE$5<=X11),1,0) -> 0 | AF11: =IF(AND($AF$5>=W11,$AF$5<=X11),1,0) -> 0 | AG11: =IF(AND($AG$5>=W11,$AG$5<=X11),1,0) -> 0 | AH11: =IF(AND($AH$5>=W11,$AH$5<=X11),1,0) -> 0 | AI11: =IF(AND($AI$5>=W11,$AI$5<=X11),1,0) -> 0 | AJ11: =IF(AND($AJ$5>=W11,$AJ$5<=X11),1,0) -> 0 | AK11: =IF(AND($AK$5>=W11,$AK$5<=X11),1,0) -> 0
A12: 5.1 | C12: Software Deployment | F12: Server Deployment | I12: 2 hours | J12: Very Important | L12: =IF($H$3=0,"Required",$H$3) -> Required | O12: 梁建宁 | Q12: Youcaihua service starts normally | T12: =IF(AND(Y12<=$X$3,Y12>0),"Completed",IF(AND(W12<=$X$3,$X$3<=X12),"In Progress",IF(AND($X$3>X12,Y12=0),"Overdue","Not Started"))) -> Not Started | W12: =V4 -> 46319 | X12: =V4 -> 46319 | Z12: =IF(AND($Z$5>=W12,$Z$5<=X12),1,0) -> 1 | AA12: =IF(AND($AA$5>=W12,$AA$5<=X12),1,0) -> 0 | AB12: =IF(AND($AB$5>=W12,$AB$5<=X12),1,0) -> 0 | AC12: =IF(AND($AC$5>=W12,$AC$5<=X12),1,0) -> 0 | AD12: =IF(AND($AD$5>=W12,$AD$5<=X12),1,0) -> 0 | AE12: =IF(AND($AE$5>=W12,$AE$5<=X12),1,0) -> 0 | AF12: =IF(AND($AF$5>=W12,$AF$5<=X12),1,0) -> 0 | AG12: =IF(AND($AG$5>=W12,$AG$5<=X12),1,0) -> 0 | AH12: =IF(AND($AH$5>=W12,$AH$5<=X12),1,0) -> 0 | AI12: =IF(AND($AI$5>=W12,$AI$5<=X12),1,0) -> 0 | AJ12: =IF(AND($AJ$5>=W12,$AJ$5<=X12),1,0) -> 0 | AK12: =IF(AND($AK$5>=W12,$AK$5<=X12),1,0) -> 0
A13: 5.2 | F13: Cashier Counter Deployment / Office PC Deployment | I13: 1 hour | J13: Very Important | L13: =IF($H$3=0,"Required",$H$3) -> Required | O13: 梁建宁 | T13: =IF(AND(Y13<=$X$3,Y13>0),"Completed",IF(AND(W13<=$X$3,$X$3<=X13),"In Progress",IF(AND($X$3>X13,Y13=0),"Overdue","Not Started"))) -> Not Started | W13: =V4+2 -> 46321 | X13: =V4+2 -> 46321 | Z13: =IF(AND($Z$5>=W13,$Z$5<=X13),1,0) -> 0 | AA13: =IF(AND($AA$5>=W13,$AA$5<=X13),1,0) -> 0 | AB13: =IF(AND($AB$5>=W13,$AB$5<=X13),1,0) -> 1 | AC13: =IF(AND($AC$5>=W13,$AC$5<=X13),1,0) -> 0 | AD13: =IF(AND($AD$5>=W13,$AD$5<=X13),1,0) -> 0 | AE13: =IF(AND($AE$5>=W13,$AE$5<=X13),1,0) -> 0 | AF13: =IF(AND($AF$5>=W13,$AF$5<=X13),1,0) -> 0 | AG13: =IF(AND($AG$5>=W13,$AG$5<=X13),1,0) -> 0 | AH13: =IF(AND($AH$5>=W13,$AH$5<=X13),1,0) -> 0 | AI13: =IF(AND($AI$5>=W13,$AI$5<=X13),1,0) -> 0 | AJ13: =IF(AND($AJ$5>=W13,$AJ$5<=X13),1,0) -> 0 | AK13: =IF(AND($AK$5>=W13,$AK$5<=X13),1,0) -> 0
A14: 6.1 | C14: Hardware Installation | F14: Card terminal configured and tested | I14: 1-3 days | J14: Very Important | K14: Electric drill, power strip, wireless network | L14: =IF($H$3=0,"Required",$H$3) -> Required | M14: =IF($L$3=0,"Required",$L$3) -> Required | N14: Required | O14: 周相勇 | Q14: Card terminal works normally | T14: =IF(AND(Y14<=$X$3,Y14>0),"Completed",IF(AND(W14<=$X$3,$X$3<=X14),"In Progress",IF(AND($X$3>X14,Y14=0),"Overdue","Not Started"))) -> Not Started | W14: =V4 -> 46319 | X14: =V4+2 -> 46321 | Z14: =IF(AND($Z$5>=W14,$Z$5<=X14),1,0) -> 1 | AA14: =IF(AND($AA$5>=W14,$AA$5<=X14),1,0) -> 1 | AB14: =IF(AND($AB$5>=W14,$AB$5<=X14),1,0) -> 1 | AC14: =IF(AND($AC$5>=W14,$AC$5<=X14),1,0) -> 0 | AD14: =IF(AND($AD$5>=W14,$AD$5<=X14),1,0) -> 0 | AE14: =IF(AND($AE$5>=W14,$AE$5<=X14),1,0) -> 0 | AF14: =IF(AND($AF$5>=W14,$AF$5<=X14),1,0) -> 0 | AG14: =IF(AND($AG$5>=W14,$AG$5<=X14),1,0) -> 0 | AH14: =IF(AND($AH$5>=W14,$AH$5<=X14),1,0) -> 0 | AI14: =IF(AND($AI$5>=W14,$AI$5<=X14),1,0) -> 0 | AJ14: =IF(AND($AJ$5>=W14,$AJ$5<=X14),1,0) -> 0 | AK14: =IF(AND($AK$5>=W14,$AK$5<=X14),1,0) -> 0
A15: 6.2 | F15: Self-service equipment configured and tested | I15: 0.5 day | J15: Very Important | K15: Network (Ethernet cable) | L15: =IF($H$3=0,"Required",$H$3) -> Required | M15: =IF($L$3=0,"Required",$L$3) -> Required | N15: Required | O15: 黄泓元 | Q15: Self-service equipment works normally | T15: =IF(AND(Y15<=$X$3,Y15>0),"Completed",IF(AND(W15<=$X$3,$X$3<=X15),"In Progress",IF(AND($X$3>X15,Y15=0),"Overdue","Not Started"))) -> Not Started | W15: =V4+2 -> 46321 | X15: =V4+2 -> 46321 | Z15: =IF(AND($Z$5>=W15,$Z$5<=X15),1,0) -> 0 | AA15: =IF(AND($AA$5>=W15,$AA$5<=X15),1,0) -> 0 | AB15: =IF(AND($AB$5>=W15,$AB$5<=X15),1,0) -> 1 | AC15: =IF(AND($AC$5>=W15,$AC$5<=X15),1,0) -> 0 | AD15: =IF(AND($AD$5>=W15,$AD$5<=X15),1,0) -> 0 | AE15: =IF(AND($AE$5>=W15,$AE$5<=X15),1,0) -> 0 | AF15: =IF(AND($AF$5>=W15,$AF$5<=X15),1,0) -> 0 | AG15: =IF(AND($AG$5>=W15,$AG$5<=X15),1,0) -> 0 | AH15: =IF(AND($AH$5>=W15,$AH$5<=X15),1,0) -> 0 | AI15: =IF(AND($AI$5>=W15,$AI$5<=X15),1,0) -> 0 | AJ15: =IF(AND($AJ$5>=W15,$AJ$5<=X15),1,0) -> 0 | AK15: =IF(AND($AK$5>=W15,$AK$5<=X15),1,0) -> 0
A16: 6.3 | F16: Access control equipment configured and tested | I16: 1-2 days | J16: Very Important | K16: Reserved cable ducts, Ethernet cable | L16: =IF($H$3=0,"Required",$H$3) -> Required | M16: =IF($L$3=0,"Required",$L$3) -> Required | N16: Required | O16: 吴小杰 | Q16: Access control equipment works normally | T16: =IF(AND(Y16<=$X$3,Y16>0),"Completed",IF(AND(W16<=$X$3,$X$3<=X16),"In Progress",IF(AND($X$3>X16,Y16=0),"Overdue","Not Started"))) -> Not Started | W16: =V4+1 -> 46320 | X16: =V4+2 -> 46321 | Z16: =IF(AND($Z$5>=W16,$Z$5<=X16),1,0) -> 0 | AA16: =IF(AND($AA$5>=W16,$AA$5<=X16),1,0) -> 1 | AB16: =IF(AND($AB$5>=W16,$AB$5<=X16),1,0) -> 1 | AC16: =IF(AND($AC$5>=W16,$AC$5<=X16),1,0) -> 0 | AD16: =IF(AND($AD$5>=W16,$AD$5<=X16),1,0) -> 0 | AE16: =IF(AND($AE$5>=W16,$AE$5<=X16),1,0) -> 0 | AF16: =IF(AND($AF$5>=W16,$AF$5<=X16),1,0) -> 0 | AG16: =IF(AND($AG$5>=W16,$AG$5<=X16),1,0) -> 0 | AH16: =IF(AND($AH$5>=W16,$AH$5<=X16),1,0) -> 0 | AI16: =IF(AND($AI$5>=W16,$AI$5<=X16),1,0) -> 0 | AJ16: =IF(AND($AJ$5>=W16,$AJ$5<=X16),1,0) -> 0 | AK16: =IF(AND($AK$5>=W16,$AK$5<=X16),1,0) -> 0
A17: 6.4 | F17: POS machine configured and tested | I17: 1 hour | J17: Very Important | K17: Wireless WiFi or 4G network | L17: =IF($H$3=0,"Required",$H$3) -> Required | M17: =IF($L$3=0,"Required",$L$3) -> Required | N17: Required | O17: 叶其盛 | Q17: POS machine functions normally | T17: =IF(AND(Y17<=$X$3,Y17>0),"Completed",IF(AND(W17<=$X$3,$X$3<=X17),"In Progress",IF(AND($X$3>X17,Y17=0),"Overdue","Not Started"))) -> Not Started | W17: =V4+2 -> 46321 | X17: =V4+2 -> 46321 | Z17: =IF(AND($Z$5>=W17,$Z$5<=X17),1,0) -> 0 | AA17: =IF(AND($AA$5>=W17,$AA$5<=X17),1,0) -> 0 | AB17: =IF(AND($AB$5>=W17,$AB$5<=X17),1,0) -> 1 | AC17: =IF(AND($AC$5>=W17,$AC$5<=X17),1,0) -> 0 | AD17: =IF(AND($AD$5>=W17,$AD$5<=X17),1,0) -> 0 | AE17: =IF(AND($AE$5>=W17,$AE$5<=X17),1,0) -> 0 | AF17: =IF(AND($AF$5>=W17,$AF$5<=X17),1,0) -> 0 | AG17: =IF(AND($AG$5>=W17,$AG$5<=X17),1,0) -> 0 | AH17: =IF(AND($AH$5>=W17,$AH$5<=X17),1,0) -> 0 | AI17: =IF(AND($AI$5>=W17,$AI$5<=X17),1,0) -> 0 | AJ17: =IF(AND($AJ$5>=W17,$AJ$5<=X17),1,0) -> 0 | AK17: =IF(AND($AK$5>=W17,$AK$5<=X17),1,0) -> 0
A18: 6.5 | F18: Billiards terminal configured and tested | I18: 1-2 days | J18: Very Important | K18: Electric drill, wireless network | L18: =IF($H$3=0,"Required",$H$3) -> Required | M18: =IF($L$3=0,"Required",$L$3) -> Required | N18: Required | O18: 吴小杰 | Q18: Billiards terminal works normally | T18: =IF(AND(Y18<=$X$3,Y18>0),"Completed",IF(AND(W18<=$X$3,$X$3<=X18),"In Progress",IF(AND($X$3>X18,Y18=0),"Overdue","Not Started"))) -> Not Started | W18: =V4 -> 46319 | X18: =V4+1 -> 46320 | Z18: =IF(AND($Z$5>=W18,$Z$5<=X18),1,0) -> 1 | AA18: =IF(AND($AA$5>=W18,$AA$5<=X18),1,0) -> 1 | AB18: =IF(AND($AB$5>=W18,$AB$5<=X18),1,0) -> 0 | AC18: =IF(AND($AC$5>=W18,$AC$5<=X18),1,0) -> 0 | AD18: =IF(AND($AD$5>=W18,$AD$5<=X18),1,0) -> 0 | AE18: =IF(AND($AE$5>=W18,$AE$5<=X18),1,0) -> 0 | AF18: =IF(AND($AF$5>=W18,$AF$5<=X18),1,0) -> 0 | AG18: =IF(AND($AG$5>=W18,$AG$5<=X18),1,0) -> 0 | AH18: =IF(AND($AH$5>=W18,$AH$5<=X18),1,0) -> 0 | AI18: =IF(AND($AI$5>=W18,$AI$5<=X18),1,0) -> 0 | AJ18: =IF(AND($AJ$5>=W18,$AJ$5<=X18),1,0) -> 0 | AK18: =IF(AND($AK$5>=W18,$AK$5<=X18),1,0) -> 0
A19: 6.6 | F19: Interactive check-in configured and tested | I19: 1-3 days | J19: Very Important | K19: Wireless network, electric drill | L19: =IF($H$3=0,"Required",$H$3) -> Required | M19: =IF($L$3=0,"Required",$L$3) -> Required | N19: Required | O19: 高晓钦 | Q19: Interactive check-in tasks set up and playable normally | T19: =IF(AND(Y19<=$X$3,Y19>0),"Completed",IF(AND(W19<=$X$3,$X$3<=X19),"In Progress",IF(AND($X$3>X19,Y19=0),"Overdue","Not Started"))) -> Not Started | W19: =V4 -> 46319 | X19: =V4+2 -> 46321 | Z19: =IF(AND($Z$5>=W19,$Z$5<=X19),1,0) -> 1 | AA19: =IF(AND($AA$5>=W19,$AA$5<=X19),1,0) -> 1 | AB19: =IF(AND($AB$5>=W19,$AB$5<=X19),1,0) -> 1 | AC19: =IF(AND($AC$5>=W19,$AC$5<=X19),1,0) -> 0 | AD19: =IF(AND($AD$5>=W19,$AD$5<=X19),1,0) -> 0 | AE19: =IF(AND($AE$5>=W19,$AE$5<=X19),1,0) -> 0 | AF19: =IF(AND($AF$5>=W19,$AF$5<=X19),1,0) -> 0 | AG19: =IF(AND($AG$5>=W19,$AG$5<=X19),1,0) -> 0 | AH19: =IF(AND($AH$5>=W19,$AH$5<=X19),1,0) -> 0 | AI19: =IF(AND($AI$5>=W19,$AI$5<=X19),1,0) -> 0 | AJ19: =IF(AND($AJ$5>=W19,$AJ$5<=X19),1,0) -> 0 | AK19: =IF(AND($AK$5>=W19,$AK$5<=X19),1,0) -> 0
A20: 6.7 | F20: Ambience system installed and debugged | I20: 1-2 days | J20: Important | K20: TV, speaker system, LED strip, power supply | L20: =IF($H$3=0,"Required",$H$3) -> Required | M20: =IF($L$3=0,"Required",$L$3) -> Required | N20: Required | O20: 高晓钦 | Q20: Ambience system works normally | T20: =IF(AND(Y20<=$X$3,Y20>0),"Completed",IF(AND(W20<=$X$3,$X$3<=X20),"In Progress",IF(AND($X$3>X20,Y20=0),"Overdue","Not Started"))) -> Not Started | W20: =V4 -> 46319 | X20: =V4+1 -> 46320
A21: 7.1 | C21: System Content Initialization | F21: Payment Method Configuration | I21: 30 min | J21: Very Important | K21: Payment configuration materials | L21: =IF($H$3=0,"Required",$H$3) -> Required | N21: =IF($L$3=0,"Required",$L$3) -> Required | O21: =IF($P$3=0,"Required",$P$3) -> Required | P21: =IF($P$3=0,"Required",$P$3) -> Required | Q21: Payment function tested normally | T21: =IF(AND(Y21<=$X$3,Y21>0),"Completed",IF(AND(W21<=$X$3,$X$3<=X21),"In Progress",IF(AND($X$3>X21,Y21=0),"Overdue","Not Started"))) -> Not Started | W21: =V4+3 -> 46322 | X21: =V4+3 -> 46322 | Z21: =IF(AND($Z$5>=W21,$Z$5<=X21),1,0) -> 0 | AA21: =IF(AND($AA$5>=W21,$AA$5<=X21),1,0) -> 0 | AB21: =IF(AND($AB$5>=W21,$AB$5<=X21),1,0) -> 0 | AC21: =IF(AND($AC$5>=W21,$AC$5<=X21),1,0) -> 1 | AD21: =IF(AND($AD$5>=W21,$AD$5<=X21),1,0) -> 0 | AE21: =IF(AND($AE$5>=W21,$AE$5<=X21),1,0) -> 0 | AF21: =IF(AND($AF$5>=W21,$AF$5<=X21),1,0) -> 0 | AG21: =IF(AND($AG$5>=W21,$AG$5<=X21),1,0) -> 0 | AH21: =IF(AND($AH$5>=W21,$AH$5<=X21),1,0) -> 0 | AI21: =IF(AND($AI$5>=W21,$AI$5<=X21),1,0) -> 0 | AJ21: =IF(AND($AJ$5>=W21,$AJ$5<=X21),1,0) -> 0 | AK21: =IF(AND($AK$5>=W21,$AK$5<=X21),1,0) -> 0
A22: 7.2 | F22: Mini-APP feature enabled and authorized | I22: 30 min | J22: Very Important | K22: Mini-program administrator | L22: =IF($H$3=0,"Required",$H$3) -> Required | N22: =IF($L$3=0,"Required",$L$3) -> Required | O22: =IF($P$3=0,"Required",$P$3) -> Required | P22: =IF($P$3=0,"Required",$P$3) -> Required | Q22: Mini-program functions normally | T22: =IF(AND(Y22<=$X$3,Y22>0),"Completed",IF(AND(W22<=$X$3,$X$3<=X22),"In Progress",IF(AND($X$3>X22,Y22=0),"Overdue","Not Started"))) -> Not Started | W22: =V4+3 -> 46322 | X22: =V4+3 -> 46322 | Z22: =IF(AND($Z$5>=W22,$Z$5<=X22),1,0) -> 0 | AA22: =IF(AND($AA$5>=W22,$AA$5<=X22),1,0) -> 0 | AB22: =IF(AND($AB$5>=W22,$AB$5<=X22),1,0) -> 0 | AC22: =IF(AND($AC$5>=W22,$AC$5<=X22),1,0) -> 1 | AD22: =IF(AND($AD$5>=W22,$AD$5<=X22),1,0) -> 0 | AE22: =IF(AND($AE$5>=W22,$AE$5<=X22),1,0) -> 0 | AF22: =IF(AND($AF$5>=W22,$AF$5<=X22),1,0) -> 0 | AG22: =IF(AND($AG$5>=W22,$AG$5<=X22),1,0) -> 0 | AH22: =IF(AND($AH$5>=W22,$AH$5<=X22),1,0) -> 0 | AI22: =IF(AND($AI$5>=W22,$AI$5<=X22),1,0) -> 0 | AJ22: =IF(AND($AJ$5>=W22,$AJ$5<=X22),1,0) -> 0 | AK22: =IF(AND($AK$5>=W22,$AK$5<=X22),1,0) -> 0
A23: 7.3 | F23: Assist client in completing package setup | I23: 0.5 day | J23: Very Important | L23: =IF($H$3=0,"Required",$H$3) -> Required | M23: =IF($L$3=0,"Required",$L$3) -> Required | O23: 梁建宁 | P23: (Owner) | Q23: Package launch completed | T23: =IF(AND(Y23<=$X$3,Y23>0),"Completed",IF(AND(W23<=$X$3,$X$3<=X23),"In Progress",IF(AND($X$3>X23,Y23=0),"Overdue","Not Started"))) -> Not Started | W23: =V4+3 -> 46322 | X23: =V4+3 -> 46322 | Z23: =IF(AND($Z$5>=W23,$Z$5<=X23),1,0) -> 0 | AA23: =IF(AND($AA$5>=W23,$AA$5<=X23),1,0) -> 0 | AB23: =IF(AND($AB$5>=W23,$AB$5<=X23),1,0) -> 0 | AC23: =IF(AND($AC$5>=W23,$AC$5<=X23),1,0) -> 1 | AD23: =IF(AND($AD$5>=W23,$AD$5<=X23),1,0) -> 0 | AE23: =IF(AND($AE$5>=W23,$AE$5<=X23),1,0) -> 0 | AF23: =IF(AND($AF$5>=W23,$AF$5<=X23),1,0) -> 0 | AG23: =IF(AND($AG$5>=W23,$AG$5<=X23),1,0) -> 0 | AH23: =IF(AND($AH$5>=W23,$AH$5<=X23),1,0) -> 0 | AI23: =IF(AND($AI$5>=W23,$AI$5<=X23),1,0) -> 0 | AJ23: =IF(AND($AJ$5>=W23,$AJ$5<=X23),1,0) -> 0 | AK23: =IF(AND($AK$5>=W23,$AK$5<=X23),1,0) -> 0
A24: 7.4 | F24: Data Import (for Replacement System only) | I24: 3 hours | J24: Very Important | L24: =IF($H$3=0,"Required",$H$3) -> Required | M24: =IF($L$3=0,"Required",$L$3) -> Required | N24: =IF($L$3=0,"Required",$L$3) -> Required | O24: 高晓钦/黄植丰 | Q24: Historical data import completed | T24: =IF(AND(Y24<=$X$3,Y24>0),"Completed",IF(AND(W24<=$X$3,$X$3<=X24),"In Progress",IF(AND($X$3>X24,Y24=0),"Overdue","Not Started"))) -> Not Started | W24: =V4+4 -> 46323 | X24: =V4+4 -> 46323 | Z24: =IF(AND($Z$5>=W24,$Z$5<=X24),1,0) -> 0 | AA24: =IF(AND($AA$5>=W24,$AA$5<=X24),1,0) -> 0 | AB24: =IF(AND($AB$5>=W24,$AB$5<=X24),1,0) -> 0 | AC24: =IF(AND($AC$5>=W24,$AC$5<=X24),1,0) -> 0 | AD24: =IF(AND($AD$5>=W24,$AD$5<=X24),1,0) -> 1 | AE24: =IF(AND($AE$5>=W24,$AE$5<=X24),1,0) -> 0 | AF24: =IF(AND($AF$5>=W24,$AF$5<=X24),1,0) -> 0 | AG24: =IF(AND($AG$5>=W24,$AG$5<=X24),1,0) -> 0 | AH24: =IF(AND($AH$5>=W24,$AH$5<=X24),1,0) -> 0 | AI24: =IF(AND($AI$5>=W24,$AI$5<=X24),1,0) -> 0 | AJ24: =IF(AND($AJ$5>=W24,$AJ$5<=X24),1,0) -> 0 | AK24: =IF(AND($AK$5>=W24,$AK$5<=X24),1,0) -> 0
A25: 8 | C25: System Training | F25: Front-desk Training / Back-office Training | I25: 1-2 days | J25: Very Important | K25: Training sign-in sheet "Product User Manual" | L25: =IF($H$3=0,"Required",$H$3) -> Required | M25: =IF($L$3=0,"Required",$L$3) -> Required | N25: Required | O25: 高晓钦 | Q25: Cashiers use the system normally on duty and sign the training attendance | T25: =IF(AND(Y25<=$X$3,Y25>0),"Completed",IF(AND(W25<=$X$3,$X$3<=X25),"In Progress",IF(AND($X$3>X25,Y25=0),"Overdue","Not Started"))) -> Not Started | W25: =V4+3 -> 46322 | X25: =V4+3 -> 46322 | Z25: =IF(AND($Z$5>=W25,$Z$5<=X25),1,0) -> 0 | AA25: =IF(AND($AA$5>=W25,$AA$5<=X25),1,0) -> 0 | AB25: =IF(AND($AB$5>=W25,$AB$5<=X25),1,0) -> 0 | AC25: =IF(AND($AC$5>=W25,$AC$5<=X25),1,0) -> 1 | AD25: =IF(AND($AD$5>=W25,$AD$5<=X25),1,0) -> 0 | AE25: =IF(AND($AE$5>=W25,$AE$5<=X25),1,0) -> 0 | AF25: =IF(AND($AF$5>=W25,$AF$5<=X25),1,0) -> 0 | AG25: =IF(AND($AG$5>=W25,$AG$5<=X25),1,0) -> 0 | AH25: =IF(AND($AH$5>=W25,$AH$5<=X25),1,0) -> 0 | AI25: =IF(AND($AI$5>=W25,$AI$5<=X25),1,0) -> 0 | AJ25: =IF(AND($AJ$5>=W25,$AJ$5<=X25),1,0) -> 0 | AK25: =IF(AND($AK$5>=W25,$AK$5<=X25),1,0) -> 0
A26: 9 | C26: Operation Process Testing & Acceptance | F26: Overall process testing & verification | I26: 0.5 day | J26: Very Important | L26: =IF($H$3=0,"Required",$H$3) -> Required | M26: =IF($L$3=0,"Required",$L$3) -> Required | O26: 梁建宁 | T26: =IF(AND(Y26<=$X$3,Y26>0),"Completed",IF(AND(W26<=$X$3,$X$3<=X26),"In Progress",IF(AND($X$3>X26,Y26=0),"Overdue","Not Started"))) -> Not Started | W26: =V4+4 -> 46323 | X26: =V4+4 -> 46323 | Z26: =IF(AND($Z$5>=W26,$Z$5<=X26),1,0) -> 0 | AA26: =IF(AND($AA$5>=W26,$AA$5<=X26),1,0) -> 0 | AB26: =IF(AND($AB$5>=W26,$AB$5<=X26),1,0) -> 0 | AC26: =IF(AND($AC$5>=W26,$AC$5<=X26),1,0) -> 0 | AD26: =IF(AND($AD$5>=W26,$AD$5<=X26),1,0) -> 1 | AE26: =IF(AND($AE$5>=W26,$AE$5<=X26),1,0) -> 0 | AF26: =IF(AND($AF$5>=W26,$AF$5<=X26),1,0) -> 0 | AG26: =IF(AND($AG$5>=W26,$AG$5<=X26),1,0) -> 0 | AH26: =IF(AND($AH$5>=W26,$AH$5<=X26),1,0) -> 0 | AI26: =IF(AND($AI$5>=W26,$AI$5<=X26),1,0) -> 0 | AJ26: =IF(AND($AJ$5>=W26,$AJ$5<=X26),1,0) -> 0 | AK26: =IF(AND($AK$5>=W26,$AK$5<=X26),1,0) -> 0
A27: 10 | C27: Opening Support | F27: On-site opening support | I27: 1 day | J27: Normal | L27: =IF($H$3=0,"Required",$H$3) -> Required | P27: =IF($P$3=0,"Required",$P$3) -> Required | T27: =IF(AND(Y27<=$X$3,Y27>0),"Completed",IF(AND(W27<=$X$3,$X$3<=X27),"In Progress",IF(AND($X$3>X27,Y27=0),"Overdue","Not Started"))) -> Not Started | W27: =V4+4 -> 46323 | X27: =V4+4 -> 46323 | Z27: =IF(AND($Z$5>=W27,$Z$5<=X27),1,0) -> 0 | AA27: =IF(AND($AA$5>=W27,$AA$5<=X27),1,0) -> 0 | AB27: =IF(AND($AB$5>=W27,$AB$5<=X27),1,0) -> 0 | AC27: =IF(AND($AC$5>=W27,$AC$5<=X27),1,0) -> 0 | AD27: =IF(AND($AD$5>=W27,$AD$5<=X27),1,0) -> 1 | AE27: =IF(AND($AE$5>=W27,$AE$5<=X27),1,0) -> 0 | AF27: =IF(AND($AF$5>=W27,$AF$5<=X27),1,0) -> 0 | AG27: =IF(AND($AG$5>=W27,$AG$5<=X27),1,0) -> 0 | AH27: =IF(AND($AH$5>=W27,$AH$5<=X27),1,0) -> 0 | AI27: =IF(AND($AI$5>=W27,$AI$5<=X27),1,0) -> 0 | AJ27: =IF(AND($AJ$5>=W27,$AJ$5<=X27),1,0) -> 0 | AK27: =IF(AND($AK$5>=W27,$AK$5<=X27),1,0) -> 0
A28: 10.1 | B28: Acceptance | C28: Material Handover | F28: Network status handover, material handover, document handover, service manual handover | I28: 1 hour | J28: Important | K28: Project Handover Form | L28: =IF($H$3=0,"Required",$H$3) -> Required | M28: =IF($L$3=0,"Required",$L$3) -> Required | P28: (Owner) | Q28: Sign project handover form and hand over Youcaihua service manual | T28: =IF(AND(Y28<=$X$3,Y28>0),"Completed",IF(AND(W28<=$X$3,$X$3<=X28),"In Progress",IF(AND($X$3>X28,Y28=0),"Overdue","Not Started"))) -> Not Started | W28: =V4+4 -> 46323 | X28: =V4+4 -> 46323 | Z28: =IF(AND($Z$5>=W28,$Z$5<=X28),1,0) -> 0 | AA28: =IF(AND($AA$5>=W28,$AA$5<=X28),1,0) -> 0 | AB28: =IF(AND($AB$5>=W28,$AB$5<=X28),1,0) -> 0 | AC28: =IF(AND($AC$5>=W28,$AC$5<=X28),1,0) -> 0 | AD28: =IF(AND($AD$5>=W28,$AD$5<=X28),1,0) -> 1 | AE28: =IF(AND($AE$5>=W28,$AE$5<=X28),1,0) -> 0 | AF28: =IF(AND($AF$5>=W28,$AF$5<=X28),1,0) -> 0 | AG28: =IF(AND($AG$5>=W28,$AG$5<=X28),1,0) -> 0 | AH28: =IF(AND($AH$5>=W28,$AH$5<=X28),1,0) -> 0 | AI28: =IF(AND($AI$5>=W28,$AI$5<=X28),1,0) -> 0 | AJ28: =IF(AND($AJ$5>=W28,$AJ$5<=X28),1,0) -> 0 | AK28: =IF(AND($AK$5>=W28,$AK$5<=X28),1,0) -> 0
A29: 10.2 | C29: Acceptance Form Handover | F29: Sign acceptance form | I29: 1 hour | J29: Important | K29: Project Acceptance Form | L29: =IF($H$3=0,"Required",$H$3) -> Required | M29: =IF($L$3=0,"Required",$L$3) -> Required | P29: 梁建宁 | Q29: Sign project acceptance form | T29: =IF(AND(Y29<=$X$3,Y29>0),"Completed",IF(AND(W29<=$X$3,$X$3<=X29),"In Progress",IF(AND($X$3>X29,Y29=0),"Overdue","Not Started"))) -> Not Started | W29: =V4+4 -> 46323 | X29: =V4+4 -> 46323 | Z29: =IF(AND($Z$5>=W29,$Z$5<=X29),1,0) -> 0 | AA29: =IF(AND($AA$5>=W29,$AA$5<=X29),1,0) -> 0 | AB29: =IF(AND($AB$5>=W29,$AB$5<=X29),1,0) -> 0 | AC29: =IF(AND($AC$5>=W29,$AC$5<=X29),1,0) -> 0 | AD29: =IF(AND($AD$5>=W29,$AD$5<=X29),1,0) -> 1 | AE29: =IF(AND($AE$5>=W29,$AE$5<=X29),1,0) -> 0 | AF29: =IF(AND($AF$5>=W29,$AF$5<=X29),1,0) -> 0 | AG29: =IF(AND($AG$5>=W29,$AG$5<=X29),1,0) -> 0 | AH29: =IF(AND($AH$5>=W29,$AH$5<=X29),1,0) -> 0 | AI29: =IF(AND($AI$5>=W29,$AI$5<=X29),1,0) -> 0 | AJ29: =IF(AND($AJ$5>=W29,$AJ$5<=X29),1,0) -> 0 | AK29: =IF(AND($AK$5>=W29,$AK$5<=X29),1,0) -> 0
A30: 10.3 | C30: Sales Handover | F30: Sales Follow-up Visit | I30: 1 hour | J30: Normal | L30: =IF($H$3=0,"Required",$H$3) -> Required | N30: =IF($P$3=0,"Required",$P$3) -> Required | O30: Sales Assistant | P30: Sales Assistant | Q30: Follow-up visit completed | T30: =IF(AND(Y30<=$X$3,Y30>0),"Completed",IF(AND(W30<=$X$3,$X$3<=X30),"In Progress",IF(AND($X$3>X30,Y30=0),"Overdue","Not Started"))) -> Not Started | W30: =V4+4 -> 46323 | X30: =V4+4 -> 46323 | Z30: =IF(AND($Z$5>=W30,$Z$5<=X30),1,0) -> 0 | AA30: =IF(AND($AA$5>=W30,$AA$5<=X30),1,0) -> 0 | AB30: =IF(AND($AB$5>=W30,$AB$5<=X30),1,0) -> 0 | AC30: =IF(AND($AC$5>=W30,$AC$5<=X30),1,0) -> 0 | AD30: =IF(AND($AD$5>=W30,$AD$5<=X30),1,0) -> 1 | AE30: =IF(AND($AE$5>=W30,$AE$5<=X30),1,0) -> 0 | AF30: =IF(AND($AF$5>=W30,$AF$5<=X30),1,0) -> 0 | AG30: =IF(AND($AG$5>=W30,$AG$5<=X30),1,0) -> 0 | AH30: =IF(AND($AH$5>=W30,$AH$5<=X30),1,0) -> 0 | AI30: =IF(AND($AI$5>=W30,$AI$5<=X30),1,0) -> 0 | AJ30: =IF(AND($AJ$5>=W30,$AJ$5<=X30),1,0) -> 0 | AK30: =IF(AND($AK$5>=W30,$AK$5<=X30),1,0) -> 0
A31: Notes: 1. Work hours are measured in hours. 2. Completion progress is marked as Not Started, In Progress, Completed, and Not Required; different statuses update the corresponding colors. 3. The project schedule chart clearly shows the timeline and allows you to review the progress.

Sheet Project (Concise Version)
B2: ='Project (Detailed Version) '!B3&"Implementation Project Plan" -> Implementation Project Plan
B3: No. | C3: Project Phase | D3: Task Name | G3: Subtask | J3: Estimated Workload | K3: Importance | L3: Key Milestone | O3: Completion Progress | P3: Risk Alert & Remarks | R3: Planned Start Date | S3: Planned End Date | T3: Actual Completion Date
B4: 1 | C4: Initiation | D4: Project Kickoff | K4: Normal | L4: CRM basic info obtained; client contacted for general briefing | O4: ='Project (Detailed Version) '!T6 -> Completed | P4: =IF('Project (Detailed Version) '!U6=0,"None",'Project (Detailed Version) '!U6) -> None | R4: ='Project (Detailed Version) '!W6 -> 46316 | S4: ='Project (Detailed Version) '!X6 -> 46316 | T4: =IF('Project (Detailed Version) '!Y6=0,"Not Ended",'Project (Detailed Version) '!Y6) -> 46316
B5: 2.1 | D5: Preliminary Preparation (Site Survey) | G5: Requirements Research | J5: 30 min | K5: Important | L5: Confirm client requirements and finalize implementation plan | O5: ='Project (Detailed Version) '!T7 -> Not Started | P5: =IF('Project (Detailed Version) '!U7=0,"None",'Project (Detailed Version) '!U7) -> None | R5: ='Project (Detailed Version) '!W7 -> 46319 | S5: ='Project (Detailed Version) '!X7 -> 46319 | T5: =IF('Project (Detailed Version) '!Y7=0,"Not Ended",'Project (Detailed Version) '!Y7) -> Not Ended
B6: 2.2 | G6: Site Entry Agreement Signing | J6: 30 min | K6: Important | L6: Sign site entry agreement | O6: ='Project (Detailed Version) '!T8 -> Not Started | P6: =IF('Project (Detailed Version) '!U8=0,"None",'Project (Detailed Version) '!U8) -> None | R6: ='Project (Detailed Version) '!W8 -> 46319 | S6: ='Project (Detailed Version) '!X8 -> 46319 | T6: =IF('Project (Detailed Version) '!Y8=0,"Not Ended",'Project (Detailed Version) '!Y8) -> Not Ended
B7: 2.3 | G7: Goods Inventory Check | J7: 30 min | K7: Very Important | L7: Sign goods receipt note | O7: ='Project (Detailed Version) '!T9 -> Not Started | P7: =IF('Project (Detailed Version) '!U9=0,"None",'Project (Detailed Version) '!U9) -> None | R7: ='Project (Detailed Version) '!W9 -> 46319 | S7: ='Project (Detailed Version) '!X9 -> 46319 | T7: =IF('Project (Detailed Version) '!Y9=0,"Not Ended",'Project (Detailed Version) '!Y9) -> Not Ended
B8: 3 | C8: Planning | D8: Implementation Plan Confirmation | G8: Develop and confirm work plan | J8: 30 min | K8: Important | O8: ='Project (Detailed Version) '!T10 -> Not Started | P8: =IF('Project (Detailed Version) '!U10=0,"None",'Project (Detailed Version) '!U10) -> None | R8: ='Project (Detailed Version) '!W10 -> 46319 | S8: ='Project (Detailed Version) '!X10 -> 46319 | T8: =IF('Project (Detailed Version) '!Y10=0,"Not Ended",'Project (Detailed Version) '!Y10) -> Not Ended
B9: 4 | C9: Execution | D9: Network Debugging / Network Delivery | G9: LAN Debugging | J9: 1 hour | K9: Very Important | L9: Network runs normally across the whole venue | O9: ='Project (Detailed Version) '!T11 -> Not Started | P9: =IF('Project (Detailed Version) '!U11=0,"None",'Project (Detailed Version) '!U11) -> None | R9: ='Project (Detailed Version) '!W11 -> 46319 | S9: ='Project (Detailed Version) '!X11 -> 46319 | T9: =IF('Project (Detailed Version) '!Y11=0,"Not Ended",'Project (Detailed Version) '!Y11) -> Not Ended
B10: 5.1 | D10: Software Deployment | G10: Server Deployment | J10: 2 hours | K10: Very Important | L10: Youcaihua service starts normally | O10: ='Project (Detailed Version) '!T12 -> Not Started | P10: =IF('Project (Detailed Version) '!U12=0,"None",'Project (Detailed Version) '!U12) -> None | R10: ='Project (Detailed Version) '!W12 -> 46319 | S10: ='Project (Detailed Version) '!X12 -> 46319 | T10: =IF('Project (Detailed Version) '!Y12=0,"Not Ended",'Project (Detailed Version) '!Y12) -> Not Ended
B11: 5.2 | G11: Cashier Counter Deployment / Office PC Deployment | J11: 1 hour | K11: Very Important | O11: ='Project (Detailed Version) '!T13 -> Not Started | P11: =IF('Project (Detailed Version) '!U13=0,"None",'Project (Detailed Version) '!U13) -> None | R11: ='Project (Detailed Version) '!W13 -> 46321 | S11: ='Project (Detailed Version) '!X13 -> 46321 | T11: =IF('Project (Detailed Version) '!Y13=0,"Not Ended",'Project (Detailed Version) '!Y13) -> Not Ended
B12: 6.1 | D12: Hardware Installation | G12: Card terminal configured and tested | J12: 1-3 days | K12: Very Important | L12: Card terminal works normally | O12: ='Project (Detailed Version) '!T14 -> Not Started | P12: =IF('Project (Detailed Version) '!U14=0,"None",'Project (Detailed Version) '!U14) -> None | R12: ='Project (Detailed Version) '!W14 -> 46319 | S12: ='Project (Detailed Version) '!X14 -> 46321 | T12: =IF('Project (Detailed Version) '!Y14=0,"Not Ended",'Project (Detailed Version) '!Y14) -> Not Ended
B13: 6.2 | G13: Self-service equipment configured and tested | J13: 0.5 day | K13: Very Important | L13: Self-service equipment works normally | O13: ='Project (Detailed Version) '!T15 -> Not Started | P13: =IF('Project (Detailed Version) '!U15=0,"None",'Project (Detailed Version) '!U15) -> None | R13: ='Project (Detailed Version) '!W15 -> 46321 | S13: ='Project (Detailed Version) '!X15 -> 46321 | T13: =IF('Project (Detailed Version) '!Y15=0,"Not Ended",'Project (Detailed Version) '!Y15) -> Not Ended
B14: 6.3 | G14: Access control equipment configured and tested | J14: 1-2 days | K14: Very Important | L14: Access control equipment works normally | O14: ='Project (Detailed Version) '!T16 -> Not Started | P14: =IF('Project (Detailed Version) '!U16=0,"None",'Project (Detailed Version) '!U16) -> None | R14: ='Project (Detailed Version) '!W16 -> 46320 | S14: ='Project (Detailed Version) '!X16 -> 46321 | T14: =IF('Project (Detailed Version) '!Y16=0,"Not Ended",'Project (Detailed Version) '!Y16) -> Not Ended
B15: 6.4 | G15: POS machine configured and tested | J15: 1 hour | K15: Very Important | L15: POS machine functions normally | O15: ='Project (Detailed Version) '!T17 -> Not Started | P15: =IF('Project (Detailed Version) '!U17=0,"None",'Project (Detailed Version) '!U17) -> None | R15: ='Project (Detailed Version) '!W17 -> 46321 | S15: ='Project (Detailed Version) '!X17 -> 46321 | T15: =IF('Project (Detailed Version) '!Y17=0,"Not Ended",'Project (Detailed Version) '!Y17) -> Not Ended
B16: 6.5 | G16: Billiards terminal configured and tested | J16: 1-2 days | K16: Very Important | L16: Billiards terminal works normally | O16: ='Project (Detailed Version) '!T18 -> Not Started | P16: =IF('Project (Detailed Version) '!U18=0,"None",'Project (Detailed Version) '!U18) -> None | R16: ='Project (Detailed Version) '!W18 -> 46319 | S16: ='Project (Detailed Version) '!X18 -> 46320 | T16: =IF('Project (Detailed Version) '!Y18=0,"Not Ended",'Project (Detailed Version) '!Y18) -> Not Ended
B17: 6.6 | G17: Interactive check-in configured and tested | J17: 1-3 days | K17: Very Important | L17: Interactive check-in tasks set up and playable normally | O17: ='Project (Detailed Version) '!T19 -> Not Started | P17: =IF('Project (Detailed Version) '!U19=0,"None",'Project (Detailed Version) '!U19) -> None | R17: ='Project (Detailed Version) '!W19 -> 46319 | S17: ='Project (Detailed Version) '!X19 -> 46321 | T17: =IF('Project (Detailed Version) '!Y19=0,"Not Ended",'Project (Detailed Version) '!Y19) -> Not Ended
B18: 6.7 | G18: Ambience system installed and debugged | J18: 1-2 days | K18: Important | L18: Ambience system works normally | O18: ='Project (Detailed Version) '!T20 -> Not Started | P18: =IF('Project (Detailed Version) '!U20=0,"None",'Project (Detailed Version) '!U20) -> None | R18: ='Project (Detailed Version) '!W20 -> 46319 | S18: ='Project (Detailed Version) '!X20 -> 46320 | T18: =IF('Project (Detailed Version) '!Y20=0,"Not Ended",'Project (Detailed Version) '!Y20) -> Not Ended
B19: 7.1 | D19: System Content Initialization | G19: Payment Method Configuration | J19: 30 min | K19: Very Important | L19: Payment function tested normally | O19: ='Project (Detailed Version) '!T21 -> Not Started | P19: =IF('Project (Detailed Version) '!U21=0,"None",'Project (Detailed Version) '!U21) -> None | R19: ='Project (Detailed Version) '!W21 -> 46322 | S19: ='Project (Detailed Version) '!X21 -> 46322 | T19: =IF('Project (Detailed Version) '!Y21=0,"Not Ended",'Project (Detailed Version) '!Y21) -> Not Ended
B20: 7.2 | G20: Mini-APP feature enabled and authorized | J20: 30 min | K20: Very Important | L20: Mini-program functions normally | O20: ='Project (Detailed Version) '!T22 -> Not Started | P20: =IF('Project (Detailed Version) '!U22=0,"None",'Project (Detailed Version) '!U22) -> None | R20: ='Project (Detailed Version) '!W22 -> 46322 | S20: ='Project (Detailed Version) '!X22 -> 46322 | T20: =IF('Project (Detailed Version) '!Y22=0,"Not Ended",'Project (Detailed Version) '!Y22) -> Not Ended
B21: 7.3 | G21: Assist client in completing package setup | J21: 0.5 day | K21: Very Important | L21: Package launch completed | O21: ='Project (Detailed Version) '!T23 -> Not Started | P21: =IF('Project (Detailed Version) '!U23=0,"None",'Project (Detailed Version) '!U23) -> None | R21: ='Project (Detailed Version) '!W23 -> 46322 | S21: ='Project (Detailed Version) '!X23 -> 46322 | T21: =IF('Project (Detailed Version) '!Y23=0,"Not Ended",'Project (Detailed Version) '!Y23) -> Not Ended
B22: 7.4 | G22: Data Import (for Replacement System only) | J22: 3 hours | K22: Very Important | L22: Historical data import completed | O22: ='Project (Detailed Version) '!T24 -> Not Started | P22: =IF('Project (Detailed Version) '!U24=0,"None",'Project (Detailed Version) '!U24) -> None | R22: ='Project (Detailed Version) '!W24 -> 46323 | S22: ='Project (Detailed Version) '!X24 -> 46323 | T22: =IF('Project (Detailed Version) '!Y24=0,"Not Ended",'Project (Detailed Version) '!Y24) -> Not Ended
B23: 8 | D23: System Training | G23: Front-desk Training / Back-office Training | J23: 1-2 days | K23: Very Important | L23: Cashiers use the system normally on duty and sign the training attendance | O23: ='Project (Detailed Version) '!T25 -> Not Started | P23: =IF('Project (Detailed Version) '!U25=0,"None",'Project (Detailed Version) '!U25) -> None | R23: ='Project (Detailed Version) '!W25 -> 46322 | S23: ='Project (Detailed Version) '!X25 -> 46322 | T23: =IF('Project (Detailed Version) '!Y25=0,"Not Ended",'Project (Detailed Version) '!Y25) -> Not Ended
B24: 9 | D24: Operation Process Testing & Acceptance | G24: Overall process testing & verification | J24: 0.5 day | K24: Very Important | O24: ='Project (Detailed Version) '!T26 -> Not Started | P24: =IF('Project (Detailed Version) '!U26=0,"None",'Project (Detailed Version) '!U26) -> None | R24: ='Project (Detailed Version) '!W26 -> 46323 | S24: ='Project (Detailed Version) '!X26 -> 46323 | T24: =IF('Project (Detailed Version) '!Y26=0,"Not Ended",'Project (Detailed Version) '!Y26) -> Not Ended
B25: 10 | D25: Opening Support | G25: On-site opening support | J25: 1 day | K25: Normal | O25: ='Project (Detailed Version) '!T27 -> Not Started | P25: =IF('Project (Detailed Version) '!U27=0,"None",'Project (Detailed Version) '!U27) -> None | R25: ='Project (Detailed Version) '!W27 -> 46323 | S25: ='Project (Detailed Version) '!X27 -> 46323 | T25: =IF('Project (Detailed Version) '!Y27=0,"Not Ended",'Project (Detailed Version) '!Y27) -> Not Ended
B26: 10.1 | C26: Acceptance | D26: Material Handover | G26: Network status handover, material handover, document handover, service manual handover | J26: 1 hour | K26: Important | L26: Sign project handover form and hand over service manual | O26: ='Project (Detailed Version) '!T28 -> Not Started | P26: =IF('Project (Detailed Version) '!U28=0,"None",'Project (Detailed Version) '!U28) -> None | R26: ='Project (Detailed Version) '!W28 -> 46323 | S26: ='Project (Detailed Version) '!X28 -> 46323 | T26: =IF('Project (Detailed Version) '!Y28=0,"Not Ended",'Project (Detailed Version) '!Y28) -> Not Ended
B27: 10.2 | D27: Acceptance Form Handover | G27: Sign acceptance form | J27: 1 hour | K27: Important | L27: Sign project acceptance form | O27: ='Project (Detailed Version) '!T29 -> Not Started | P27: =IF('Project (Detailed Version) '!U29=0,"None",'Project (Detailed Version) '!U29) -> None | R27: ='Project (Detailed Version) '!W29 -> 46323 | S27: ='Project (Detailed Version) '!X29 -> 46323 | T27: =IF('Project (Detailed Version) '!Y29=0,"Not Ended",'Project (Detailed Version) '!Y29) -> Not Ended
B28: 10.3 | D28: Sales Handover | G28: Sales Follow-up Visit | J28: 1 hour | K28: Normal | L28: Follow-up visit completed | O28: ='Project (Detailed Version) '!T30 -> Not Started | P28: =IF('Project (Detailed Version) '!U30=0,"None",'Project (Detailed Version) '!U30) -> None | R28: ='Project (Detailed Version) '!W30 -> 46323 | S28: ='Project (Detailed Version) '!X30 -> 46323 | T28: =IF('Project (Detailed Version) '!Y30=0,"Not Ended",'Project (Detailed Version) '!Y30) -> Not Ended
